BEGIN:VCALENDAR
VERSION:2.0
PRODID:-//Moto Club Cent Peus - ECPv6.15.20//NONSGML v1.0//EN
CALSCALE:GREGORIAN
METHOD:PUBLISH
X-ORIGINAL-URL:https://www.motoclubcentpeus.es
X-WR-CALDESC:Esdeveniments per Moto Club Cent Peus
REFRESH-INTERVAL;VALUE=DURATION:PT1H
X-Robots-Tag:noindex
X-PUBLISHED-TTL:PT1H
BEGIN:VTIMEZONE
TZID:UTC
BEGIN:STANDARD
TZOFFSETFROM:+0000
TZOFFSETTO:+0000
TZNAME:UTC
DTSTART:20250101T000000
END:STANDARD
END:VTIMEZONE
BEGIN:VEVENT
DTSTART;TZID=UTC:20260607T000000
DTEND;TZID=UTC:20260607T000000
DTSTAMP:20260422T132809
CREATED:20260228T173825Z
LAST-MODIFIED:20260228T174823Z
UID:2066-1780790400-1780790400@www.motoclubcentpeus.es
SUMMARY:4t Trial social 2026
DESCRIPTION:📅 El pròxim 7 de juny celebrem el 4t Trial Social del Moto Club! 🏍️💨
URL:https://www.motoclubcentpeus.es/esdeveniment/4t-trial-social-2026/
END:VEVENT
END:VCALENDAR